Package: TOP Version: 1.7.0 Command: /Library/Frameworks/R.framework/Resources/bin/R CMD check --install=check:TOP.install-out.txt --library=/Library/Frameworks/R.framework/Resources/library --no-vignettes --timings TOP_1.7.0.tar.gz StartedAt: 2025-02-17 23:41:35 -0500 (Mon, 17 Feb 2025) EndedAt: 2025-02-17 23:45:28 -0500 (Mon, 17 Feb 2025) EllapsedTime: 233.0 seconds RetCode: 0 Status: OK CheckDir: TOP.Rcheck Warnings: 0