Package: TOP Version: 1.7.0 Command: /Library/Frameworks/R.framework/Resources/bin/R CMD build --keep-empty-dirs --no-resave-data TOP StartedAt: 2025-02-17 18:30:09 -0500 (Mon, 17 Feb 2025) EndedAt: 2025-02-17 18:31:33 -0500 (Mon, 17 Feb 2025) EllapsedTime: 83.4 seconds RetCode: 0 Status: OK PackageFile: TOP_1.7.0.tar.gz PackageFileSize: 485.5 KiB