Package: TOAST Version: 1.21.0 Command: /home/biocbuild/bbs-3.21-bioc/R/bin/R CMD check --install=check:TOAST.install-out.txt --library=/home/biocbuild/bbs-3.21-bioc/R/site-library --timings TOAST_1.21.0.tar.gz StartedAt: 2025-02-21 02:35:30 -0500 (Fri, 21 Feb 2025) EndedAt: 2025-02-21 02:42:14 -0500 (Fri, 21 Feb 2025) EllapsedTime: 403.6 seconds RetCode: 0 Status: OK CheckDir: TOAST.Rcheck Warnings: 0