Package: TOAST Version: 1.21.0 Command: /Library/Frameworks/R.framework/Resources/bin/R CMD build --keep-empty-dirs --no-resave-data TOAST StartedAt: 2025-02-20 18:31:48 -0500 (Thu, 20 Feb 2025) EndedAt: 2025-02-20 18:34:19 -0500 (Thu, 20 Feb 2025) EllapsedTime: 151.0 seconds RetCode: 0 Status: OK PackageFile: TOAST_1.21.0.tar.gz PackageFileSize: 3.623 MiB