Package: TMixClust Version: 1.29.0 Command: E:\biocbuild\bbs-3.21-bioc\R\bin\R.exe CMD check --no-multiarch --install=check:TMixClust.install-out.txt --library=E:\biocbuild\bbs-3.21-bioc\R\library --no-vignettes --timings TMixClust_1.29.0.tar.gz StartedAt: 2025-02-21 06:34:19 -0500 (Fri, 21 Feb 2025) EndedAt: 2025-02-21 06:35:58 -0500 (Fri, 21 Feb 2025) EllapsedTime: 98.7 seconds RetCode: 0 Status: OK CheckDir: TMixClust.Rcheck Warnings: 0