Package: TMixClust Version: 1.29.0 Command: rm -rf TMixClust.buildbin-libdir && mkdir TMixClust.buildbin-libdir && E:\biocbuild\bbs-3.21-bioc\R\bin\R.exe CMD INSTALL --build --library=TMixClust.buildbin-libdir TMixClust_1.29.0.tar.gz StartedAt: 2025-02-21 09:16:44 -0500 (Fri, 21 Feb 2025) EndedAt: 2025-02-21 09:17:13 -0500 (Fri, 21 Feb 2025) EllapsedTime: 29.3 seconds RetCode: 0 Status: OK PackageFile: TMixClust_1.29.0.zip PackageFileSize: 746.6 KiB