Package: TIN Version: 1.39.0 Command: E:\biocbuild\bbs-3.21-bioc\R\bin\R.exe CMD check --no-multiarch --install=check:TIN.install-out.txt --library=E:\biocbuild\bbs-3.21-bioc\R\library --no-vignettes --timings TIN_1.39.0.tar.gz StartedAt: 2025-02-20 06:15:29 -0500 (Thu, 20 Feb 2025) EndedAt: 2025-02-20 06:19:12 -0500 (Thu, 20 Feb 2025) EllapsedTime: 223.1 seconds RetCode: 0 Status: OK CheckDir: TIN.Rcheck Warnings: 0