Package: TFEA.ChIP Version: 1.27.0 Command: rm -rf TFEA.ChIP.buildbin-libdir && mkdir TFEA.ChIP.buildbin-libdir && E:\biocbuild\bbs-3.21-bioc\R\bin\R.exe CMD INSTALL --build --library=TFEA.ChIP.buildbin-libdir TFEA.ChIP_1.27.0.tar.gz StartedAt: 2025-02-21 09:15:36 -0500 (Fri, 21 Feb 2025) EndedAt: 2025-02-21 09:16:38 -0500 (Fri, 21 Feb 2025) EllapsedTime: 61.3 seconds RetCode: 0 Status: OK PackageFile: TFEA.ChIP_1.27.0.zip PackageFileSize: 5.211 MiB