Package: TFEA.ChIP Version: 1.27.0 Command: /home/biocbuild/bbs-3.21-bioc/R/bin/R CMD INSTALL TFEA.ChIP StartedAt: 2025-02-19 15:39:06 -0500 (Wed, 19 Feb 2025) EndedAt: 2025-02-19 15:39:44 -0500 (Wed, 19 Feb 2025) EllapsedTime: 38.8 seconds RetCode: 0 Status: OK