Package: TFEA.ChIP Version: 1.27.0 Command: /Library/Frameworks/R.framework/Resources/bin/R CMD check --install=check:TFEA.ChIP.install-out.txt --library=/Library/Frameworks/R.framework/Resources/library --no-vignettes --timings TFEA.ChIP_1.27.0.tar.gz StartedAt: 2025-02-20 23:43:17 -0500 (Thu, 20 Feb 2025) EndedAt: 2025-02-20 23:50:11 -0500 (Thu, 20 Feb 2025) EllapsedTime: 414.5 seconds RetCode: 0 Status: OK CheckDir: TFEA.ChIP.Rcheck Warnings: 0