Package: TFEA.ChIP Version: 1.27.0 Command: /Library/Frameworks/R.framework/Resources/bin/R CMD build --keep-empty-dirs --no-resave-data TFEA.ChIP StartedAt: 2025-02-20 18:30:03 -0500 (Thu, 20 Feb 2025) EndedAt: 2025-02-20 18:31:36 -0500 (Thu, 20 Feb 2025) EllapsedTime: 92.4 seconds RetCode: 0 Status: OK PackageFile: TFEA.ChIP_1.27.0.tar.gz PackageFileSize: 5.26 MiB