Package: TFBSTools Version: 1.45.1 Command: E:\biocbuild\bbs-3.21-bioc\R\bin\R.exe CMD check --no-multiarch --install=check:TFBSTools.install-out.txt --library=E:\biocbuild\bbs-3.21-bioc\R\library --no-vignettes --timings TFBSTools_1.45.1.tar.gz StartedAt: 2025-02-21 06:28:52 -0500 (Fri, 21 Feb 2025) EndedAt: 2025-02-21 06:36:05 -0500 (Fri, 21 Feb 2025) EllapsedTime: 432.5 seconds RetCode: 0 Status: OK CheckDir: TFBSTools.Rcheck Warnings: 0