Package: TFBSTools Version: 1.45.1 Command: /Library/Frameworks/R.framework/Resources/bin/R CMD INSTALL TFBSTools StartedAt: 2025-02-19 15:19:57 -0500 (Wed, 19 Feb 2025) EndedAt: 2025-02-19 15:21:06 -0500 (Wed, 19 Feb 2025) EllapsedTime: 68.4 seconds RetCode: 0 Status: OK