Package: TFBSTools Version: 1.45.1 Command: rm -rf TFBSTools.buildbin-libdir && mkdir TFBSTools.buildbin-libdir && /Users/biocbuild/BBS/utils/build-universal.sh TFBSTools_1.45.1.tar.gz /Library/Frameworks/R.framework/Resources/bin/R TFBSTools.buildbin-libdir StartedAt: 2025-02-20 00:58:30 -0500 (Thu, 20 Feb 2025) EndedAt: 2025-02-20 00:59:45 -0500 (Thu, 20 Feb 2025) EllapsedTime: 74.6 seconds RetCode: 0 Status: OK PackageFile: TFBSTools_1.45.1.tgz PackageFileSize: 2.094 MiB