Package: TFARM Version: 1.29.0 Command: E:\biocbuild\bbs-3.21-bioc\R\bin\R.exe CMD INSTALL TFARM StartedAt: 2025-02-20 15:49:49 -0500 (Thu, 20 Feb 2025) EndedAt: 2025-02-20 15:50:17 -0500 (Thu, 20 Feb 2025) EllapsedTime: 28.4 seconds RetCode: 0 Status: OK