Package: TFARM Version: 1.29.0 Command: rm -rf TFARM.buildbin-libdir && mkdir TFARM.buildbin-libdir && E:\biocbuild\bbs-3.21-bioc\R\bin\R.exe CMD INSTALL --build --library=TFARM.buildbin-libdir TFARM_1.29.0.tar.gz StartedAt: 2025-02-21 09:15:22 -0500 (Fri, 21 Feb 2025) EndedAt: 2025-02-21 09:15:47 -0500 (Fri, 21 Feb 2025) EllapsedTime: 25.1 seconds RetCode: 0 Status: OK PackageFile: TFARM_1.29.0.zip PackageFileSize: 538.4 KiB