Package: TFARM Version: 1.29.0 Command: /home/biocbuild/bbs-3.21-bioc/R/bin/R CMD build --keep-empty-dirs --no-resave-data TFARM StartedAt: 2025-02-20 19:34:19 -0500 (Thu, 20 Feb 2025) EndedAt: 2025-02-20 19:35:59 -0500 (Thu, 20 Feb 2025) EllapsedTime: 100.4 seconds RetCode: 0 Status: OK PackageFile: TFARM_1.29.0.tar.gz PackageFileSize: 470.7 KiB