Package: TFARM Version: 1.29.0 Command: rm -rf TFARM.buildbin-libdir && mkdir TFARM.buildbin-libdir && /Users/biocbuild/BBS/utils/build-universal.sh TFARM_1.29.0.tar.gz /Library/Frameworks/R.framework/Resources/bin/R TFARM.buildbin-libdir StartedAt: 2025-02-21 00:57:11 -0500 (Fri, 21 Feb 2025) EndedAt: 2025-02-21 00:57:34 -0500 (Fri, 21 Feb 2025) EllapsedTime: 23.5 seconds RetCode: 0 Status: OK PackageFile: TFARM_1.29.0.tgz PackageFileSize: 534.6 KiB