Package: TEQC Version: 4.29.0 Command: chmod a+r TEQC -R && E:\biocbuild\bbs-3.21-bioc\R\bin\R.exe CMD build --keep-empty-dirs --no-resave-data TEQC StartedAt: 2025-02-20 22:13:35 -0500 (Thu, 20 Feb 2025) EndedAt: 2025-02-20 22:14:13 -0500 (Thu, 20 Feb 2025) EllapsedTime: 37.4 seconds RetCode: 0 Status: OK PackageFile: TEQC_4.29.0.tar.gz PackageFileSize: 509.8 KiB