Package: TEQC Version: 4.29.0 Command: rm -rf TEQC.buildbin-libdir && mkdir TEQC.buildbin-libdir && E:\biocbuild\bbs-3.21-bioc\R\bin\R.exe CMD INSTALL --build --library=TEQC.buildbin-libdir TEQC_4.29.0.tar.gz StartedAt: 2025-02-21 09:15:19 -0500 (Fri, 21 Feb 2025) EndedAt: 2025-02-21 09:15:41 -0500 (Fri, 21 Feb 2025) EllapsedTime: 21.9 seconds RetCode: 0 Status: OK PackageFile: TEQC_4.29.0.zip PackageFileSize: 666.8 KiB