Package: TEQC Version: 4.29.0 Command: /Library/Frameworks/R.framework/Resources/bin/R CMD INSTALL TEQC StartedAt: 2025-02-19 15:16:28 -0500 (Wed, 19 Feb 2025) EndedAt: 2025-02-19 15:16:48 -0500 (Wed, 19 Feb 2025) EllapsedTime: 19.8 seconds RetCode: 0 Status: OK