Package: TEQC Version: 4.29.0 Command: /Library/Frameworks/R.framework/Resources/bin/R CMD build --keep-empty-dirs --no-resave-data TEQC StartedAt: 2025-02-19 18:29:58 -0500 (Wed, 19 Feb 2025) EndedAt: 2025-02-19 18:30:28 -0500 (Wed, 19 Feb 2025) EllapsedTime: 29.8 seconds RetCode: 0 Status: OK PackageFile: TEQC_4.29.0.tar.gz PackageFileSize: 643.2 KiB