Package: TEQC Version: 4.29.0 Command: /Library/Frameworks/R.framework/Resources/bin/R CMD INSTALL TEQC StartedAt: 2025-02-19 15:09:48 -0500 (Wed, 19 Feb 2025) EndedAt: 2025-02-19 15:09:54 -0500 (Wed, 19 Feb 2025) EllapsedTime: 5.6 seconds RetCode: 0 Status: OK