Package: TEQC Version: 4.29.0 Command: /Library/Frameworks/R.framework/Resources/bin/R CMD build --keep-empty-dirs --no-resave-data TEQC StartedAt: 2025-02-19 17:48:38 -0500 (Wed, 19 Feb 2025) EndedAt: 2025-02-19 17:48:49 -0500 (Wed, 19 Feb 2025) EllapsedTime: 11.1 seconds RetCode: 0 Status: OK PackageFile: TEQC_4.29.0.tar.gz PackageFileSize: 643.7 KiB