Package: TENxIO Version: 1.9.3 Command: E:\biocbuild\bbs-3.21-bioc\R\bin\R.exe CMD INSTALL TENxIO StartedAt: 2025-02-18 16:18:25 -0500 (Tue, 18 Feb 2025) EndedAt: 2025-02-18 16:19:07 -0500 (Tue, 18 Feb 2025) EllapsedTime: 42.0 seconds RetCode: 0 Status: OK