Package: TENxIO Version: 1.9.3 Command: E:\biocbuild\bbs-3.21-bioc\R\bin\R.exe CMD check --no-multiarch --install=check:TENxIO.install-out.txt --library=E:\biocbuild\bbs-3.21-bioc\R\library --no-vignettes --timings TENxIO_1.9.3.tar.gz StartedAt: 2025-02-19 05:59:21 -0500 (Wed, 19 Feb 2025) EndedAt: 2025-02-19 06:03:06 -0500 (Wed, 19 Feb 2025) EllapsedTime: 224.5 seconds RetCode: 0 Status: OK CheckDir: TENxIO.Rcheck Warnings: 0