Package: TENxIO Version: 1.9.3 Command: chmod a+r TENxIO -R && E:\biocbuild\bbs-3.21-bioc\R\bin\R.exe CMD build --keep-empty-dirs --no-resave-data TENxIO StartedAt: 2025-02-18 21:59:31 -0500 (Tue, 18 Feb 2025) EndedAt: 2025-02-18 22:00:36 -0500 (Tue, 18 Feb 2025) EllapsedTime: 64.7 seconds RetCode: 0 Status: OK PackageFile: TENxIO_1.9.3.tar.gz PackageFileSize: 256.3 KiB