Package: TENxIO Version: 1.9.3 Command: /Library/Frameworks/R.framework/Resources/bin/R CMD INSTALL TENxIO StartedAt: 2025-02-18 15:11:56 -0500 (Tue, 18 Feb 2025) EndedAt: 2025-02-18 15:12:34 -0500 (Tue, 18 Feb 2025) EllapsedTime: 38.1 seconds RetCode: 0 Status: OK