Package: TDbasedUFEadv Version: 1.7.0 Command: /Library/Frameworks/R.framework/Resources/bin/R CMD check --install=check:TDbasedUFEadv.install-out.txt --library=/Library/Frameworks/R.framework/Resources/library --no-vignettes --timings TDbasedUFEadv_1.7.0.tar.gz StartedAt: 2025-02-20 23:42:39 -0500 (Thu, 20 Feb 2025) EndedAt: 2025-02-20 23:46:35 -0500 (Thu, 20 Feb 2025) EllapsedTime: 236.5 seconds RetCode: 0 Status: OK CheckDir: TDbasedUFEadv.Rcheck Warnings: 0