Package: TDbasedUFE Version: 1.7.0 Command: chmod a+r TDbasedUFE -R && E:\biocbuild\bbs-3.21-bioc\R\bin\R.exe CMD build --keep-empty-dirs --no-resave-data TDbasedUFE StartedAt: 2025-02-19 22:03:13 -0500 (Wed, 19 Feb 2025) EndedAt: 2025-02-19 22:04:04 -0500 (Wed, 19 Feb 2025) EllapsedTime: 50.4 seconds RetCode: 0 Status: OK PackageFile: TDbasedUFE_1.7.0.tar.gz PackageFileSize: 960.2 KiB