Package: TDbasedUFE Version: 1.7.0 Command: /home/biocbuild/bbs-3.21-bioc/R/bin/R CMD build --keep-empty-dirs --no-resave-data TDbasedUFE StartedAt: 2025-02-20 19:33:39 -0500 (Thu, 20 Feb 2025) EndedAt: 2025-02-20 19:34:09 -0500 (Thu, 20 Feb 2025) EllapsedTime: 30.1 seconds RetCode: 0 Status: OK PackageFile: TDbasedUFE_1.7.0.tar.gz PackageFileSize: 1.286 MiB