Package: TDbasedUFE Version: 1.7.0 Command: /Library/Frameworks/R.framework/Resources/bin/R CMD INSTALL TDbasedUFE StartedAt: 2025-02-20 15:16:44 -0500 (Thu, 20 Feb 2025) EndedAt: 2025-02-20 15:16:49 -0500 (Thu, 20 Feb 2025) EllapsedTime: 4.7 seconds RetCode: 0 Status: OK