Package: TCseq Version: 1.31.0 Command: E:\biocbuild\bbs-3.21-bioc\R\bin\R.exe CMD check --no-multiarch --install=check:TCseq.install-out.txt --library=E:\biocbuild\bbs-3.21-bioc\R\library --no-vignettes --timings TCseq_1.31.0.tar.gz StartedAt: 2025-02-21 06:26:44 -0500 (Fri, 21 Feb 2025) EndedAt: 2025-02-21 06:31:01 -0500 (Fri, 21 Feb 2025) EllapsedTime: 257.2 seconds RetCode: 0 Status: WARNINGS CheckDir: TCseq.Rcheck Warnings: 1