Package: TCseq Version: 1.31.0 Command: chmod a+r TCseq -R && E:\biocbuild\bbs-3.21-bioc\R\bin\R.exe CMD build --keep-empty-dirs --no-resave-data TCseq StartedAt: 2025-02-20 22:12:52 -0500 (Thu, 20 Feb 2025) EndedAt: 2025-02-20 22:14:00 -0500 (Thu, 20 Feb 2025) EllapsedTime: 68.3 seconds RetCode: 0 Status: OK PackageFile: TCseq_1.31.0.tar.gz PackageFileSize: 1.024 MiB