Package: TCseq Version: 1.31.0 Command: rm -rf TCseq.buildbin-libdir && mkdir TCseq.buildbin-libdir && E:\biocbuild\bbs-3.21-bioc\R\bin\R.exe CMD INSTALL --build --library=TCseq.buildbin-libdir TCseq_1.31.0.tar.gz StartedAt: 2025-02-21 09:14:37 -0500 (Fri, 21 Feb 2025) EndedAt: 2025-02-21 09:15:35 -0500 (Fri, 21 Feb 2025) EllapsedTime: 58.0 seconds RetCode: 0 Status: OK PackageFile: TCseq_1.31.0.zip PackageFileSize: 739.6 KiB