Package: TCseq Version: 1.31.0 Command: /home/biocbuild/bbs-3.21-bioc/R/bin/R CMD INSTALL TCseq StartedAt: 2025-02-20 15:45:55 -0500 (Thu, 20 Feb 2025) EndedAt: 2025-02-20 15:46:24 -0500 (Thu, 20 Feb 2025) EllapsedTime: 28.8 seconds RetCode: 0 Status: OK