Package: TCseq Version: 1.31.0 Command: /home/biocbuild/bbs-3.21-bioc/R/bin/R CMD check --install=check:TCseq.install-out.txt --library=/home/biocbuild/bbs-3.21-bioc/R/site-library --timings TCseq_1.31.0.tar.gz StartedAt: 2025-02-21 02:29:48 -0500 (Fri, 21 Feb 2025) EndedAt: 2025-02-21 02:33:28 -0500 (Fri, 21 Feb 2025) EllapsedTime: 220.4 seconds RetCode: 0 Status: WARNINGS CheckDir: TCseq.Rcheck Warnings: 1