Package: TCseq Version: 1.31.0 Command: /home/biocbuild/bbs-3.21-bioc/R/bin/R CMD build --keep-empty-dirs --no-resave-data TCseq StartedAt: 2025-02-20 19:33:38 -0500 (Thu, 20 Feb 2025) EndedAt: 2025-02-20 19:34:20 -0500 (Thu, 20 Feb 2025) EllapsedTime: 42.1 seconds RetCode: 0 Status: OK PackageFile: TCseq_1.31.0.tar.gz PackageFileSize: 1.114 MiB