Package: TCseq Version: 1.31.0 Command: /home/biocbuild/R/R/bin/R CMD build --keep-empty-dirs --no-resave-data TCseq StartedAt: 2025-01-28 02:52:58 -0000 (Tue, 28 Jan 2025) EndedAt: 2025-01-28 02:53:58 -0000 (Tue, 28 Jan 2025) EllapsedTime: 59.0 seconds RetCode: 0 Status: OK PackageFile: TCseq_1.31.0.tar.gz PackageFileSize: 1.108 MiB