Package: TCseq Version: 1.31.0 Command: /Library/Frameworks/R.framework/Resources/bin/R CMD INSTALL TCseq StartedAt: 2025-02-20 15:08:15 -0500 (Thu, 20 Feb 2025) EndedAt: 2025-02-20 15:08:28 -0500 (Thu, 20 Feb 2025) EllapsedTime: 12.1 seconds RetCode: 0 Status: OK