Package: TCGAutils Version: 1.27.6 Command: /home/biocbuild/bbs-3.21-bioc/R/bin/R CMD INSTALL TCGAutils StartedAt: 2025-02-17 15:40:55 -0500 (Mon, 17 Feb 2025) EndedAt: 2025-02-17 15:41:32 -0500 (Mon, 17 Feb 2025) EllapsedTime: 37.0 seconds RetCode: 0 Status: OK