Package: TCGAutils Version: 1.27.6 Command: /home/biocbuild/bbs-3.21-bioc/R/bin/R CMD check --install=check:TCGAutils.install-out.txt --library=/home/biocbuild/bbs-3.21-bioc/R/site-library --timings TCGAutils_1.27.6.tar.gz StartedAt: 2025-02-18 02:52:31 -0500 (Tue, 18 Feb 2025) EndedAt: 2025-02-18 03:00:54 -0500 (Tue, 18 Feb 2025) EllapsedTime: 502.7 seconds RetCode: 0 Status: OK CheckDir: TCGAutils.Rcheck Warnings: 0