Package: TCGAutils Version: 1.27.6 Command: /home/biocbuild/bbs-3.21-bioc/R/bin/R CMD build --keep-empty-dirs --no-resave-data TCGAutils StartedAt: 2025-02-17 19:26:27 -0500 (Mon, 17 Feb 2025) EndedAt: 2025-02-17 19:29:00 -0500 (Mon, 17 Feb 2025) EllapsedTime: 152.6 seconds RetCode: 0 Status: OK PackageFile: TCGAutils_1.27.6.tar.gz PackageFileSize: 406.4 KiB