Package: TCGAutils Version: 1.27.6 Command: /Library/Frameworks/R.framework/Resources/bin/R CMD INSTALL TCGAutils StartedAt: 2025-02-17 15:19:25 -0500 (Mon, 17 Feb 2025) EndedAt: 2025-02-17 15:20:13 -0500 (Mon, 17 Feb 2025) EllapsedTime: 48.0 seconds RetCode: 0 Status: OK