Package: TCGAutils Version: 1.27.6 Command: /Library/Frameworks/R.framework/Resources/bin/R CMD INSTALL TCGAutils StartedAt: 2025-02-19 15:09:27 -0500 (Wed, 19 Feb 2025) EndedAt: 2025-02-19 15:09:44 -0500 (Wed, 19 Feb 2025) EllapsedTime: 17.2 seconds RetCode: 0 Status: OK