Package: TCGAutils Version: 1.27.6 Command: rm -rf TCGAutils.buildbin-libdir && mkdir TCGAutils.buildbin-libdir && /Users/biocbuild/BBS/utils/build-universal.sh TCGAutils_1.27.6.tar.gz /Library/Frameworks/R.framework/Resources/bin/R TCGAutils.buildbin-libdir StartedAt: 2025-02-18 22:40:27 -0500 (Tue, 18 Feb 2025) EndedAt: 2025-02-18 22:40:44 -0500 (Tue, 18 Feb 2025) EllapsedTime: 17.4 seconds RetCode: 0 Status: OK PackageFile: TCGAutils_1.27.6.tgz PackageFileSize: 522.2 KiB