Package: TCGAbiolinks Version: 2.35.3 Command: /home/biocbuild/bbs-3.21-bioc/R/bin/R CMD check --install=check:TCGAbiolinks.install-out.txt --library=/home/biocbuild/bbs-3.21-bioc/R/site-library --timings TCGAbiolinks_2.35.3.tar.gz StartedAt: 2025-02-20 03:07:11 -0500 (Thu, 20 Feb 2025) EndedAt: 2025-02-20 03:22:13 -0500 (Thu, 20 Feb 2025) EllapsedTime: 902.3 seconds RetCode: 0 Status: WARNINGS CheckDir: TCGAbiolinks.Rcheck Warnings: 2