Package: TCGAbiolinks Version: 2.35.3 Command: /Library/Frameworks/R.framework/Resources/bin/R CMD check --install=check:TCGAbiolinks.install-out.txt --library=/Library/Frameworks/R.framework/Resources/library --no-vignettes --timings TCGAbiolinks_2.35.3.tar.gz StartedAt: 2025-02-19 21:49:37 -0500 (Wed, 19 Feb 2025) EndedAt: 2025-02-19 21:54:50 -0500 (Wed, 19 Feb 2025) EllapsedTime: 312.8 seconds RetCode: 1 Status: ERROR CheckDir: TCGAbiolinks.Rcheck Warnings: NA