Package: TCGAbiolinks Version: 2.35.3 Command: /Library/Frameworks/R.framework/Resources/bin/R CMD build --keep-empty-dirs --no-resave-data TCGAbiolinks StartedAt: 2025-02-19 17:48:17 -0500 (Wed, 19 Feb 2025) EndedAt: 2025-02-19 17:51:35 -0500 (Wed, 19 Feb 2025) EllapsedTime: 198.3 seconds RetCode: 0 Status: OK PackageFile: TCGAbiolinks_2.35.3.tar.gz PackageFileSize: 69.33 MiB