Package: TCC Version: 1.47.0 Command: E:\biocbuild\bbs-3.21-bioc\R\bin\R.exe CMD INSTALL TCC StartedAt: 2025-02-18 16:07:15 -0500 (Tue, 18 Feb 2025) EndedAt: 2025-02-18 16:07:56 -0500 (Tue, 18 Feb 2025) EllapsedTime: 41.2 seconds RetCode: 0 Status: OK